BEGIN:VCALENDAR
VERSION:2.0
PRODID:-//New Mexico Help &amp; Support - ECPv4.9.1.1//NONSGML v1.0//EN
CALSCALE:GREGORIAN
METHOD:PUBLISH
X-WR-CALNAME:New Mexico Help &amp; Support
X-ORIGINAL-URL:https://newmexico.onlinehelp.cognia.org
X-WR-CALDESC:Events for New Mexico Help &amp; Support
BEGIN:VEVENT
DTSTART;TZID=America/Denver:20240209T170000
DTEND;TZID=America/Denver:20240209T170000
DTSTAMP:20260422T155501
CREATED:20231205T144851Z
LAST-MODIFIED:20231205T144851Z
UID:2848-1707498000-1707498000@newmexico.onlinehelp.cognia.org
SUMMARY:District Enrollment Rosters Inventory Window CLOSES
DESCRIPTION:
URL:https://newmexico.onlinehelp.cognia.org/event/district-enrollment-rosters-inventory-window-closes/
CATEGORIES:NM-MSSA
END:VEVENT
END:VCALENDAR