BEGIN:VCALENDAR
VERSION:2.0
PRODID:-//New Mexico Help &amp; Support - ECPv4.9.1.1//NONSGML v1.0//EN
CALSCALE:GREGORIAN
METHOD:PUBLISH
X-WR-CALNAME:New Mexico Help &amp; Support
X-ORIGINAL-URL:https://newmexico.onlinehelp.cognia.org
X-WR-CALDESC:Events for New Mexico Help &amp; Support
BEGIN:VEVENT
DTSTART;VALUE=DATE:20201209
DTEND;VALUE=DATE:20201210
DTSTAMP:20260422T211216
CREATED:20201130T152605Z
LAST-MODIFIED:20201130T152605Z
UID:1779-1607472000-1607558399@newmexico.onlinehelp.cognia.org
SUMMARY:Increasing Assessment Literacy Part B Regions 6\, 7 & 8
DESCRIPTION:
URL:https://newmexico.onlinehelp.cognia.org/event/increasing-assessment-literacy-part-b-regions-6-7-8/
CATEGORIES:Professional Learning
END:VEVENT
END:VCALENDAR