BEGIN:VCALENDAR
VERSION:2.0
PRODID:-//New Mexico Help &amp; Support - ECPv4.9.1.1//NONSGML v1.0//EN
CALSCALE:GREGORIAN
METHOD:PUBLISH
X-WR-CALNAME:New Mexico Help &amp; Support
X-ORIGINAL-URL:https://newmexico.onlinehelp.cognia.org
X-WR-CALDESC:Events for New Mexico Help &amp; Support
BEGIN:VEVENT
DTSTART;TZID=America/Denver:20250110T210000
DTEND;TZID=America/Denver:20250110T210000
DTSTAMP:20260420T124937
CREATED:20240716T190826Z
LAST-MODIFIED:20240716T190826Z
UID:3041-1736542800-1736542800@newmexico.onlinehelp.cognia.org
SUMMARY:MOY iMSSA Administration Window Closes
DESCRIPTION:
URL:https://newmexico.onlinehelp.cognia.org/event/moy-imssa-administration-window-closes-2/
CATEGORIES:NM-iMSSA
END:VEVENT
END:VCALENDAR