BEGIN:VCALENDAR
VERSION:2.0
PRODID:-//New Mexico Help &amp; Support - ECPv4.9.1.1//NONSGML v1.0//EN
CALSCALE:GREGORIAN
METHOD:PUBLISH
X-WR-CALNAME:New Mexico Help &amp; Support
X-ORIGINAL-URL:https://newmexico.onlinehelp.cognia.org
X-WR-CALDESC:Events for New Mexico Help &amp; Support
BEGIN:VEVENT
DTSTART;TZID=America/Denver:20230320T070000
DTEND;TZID=America/Denver:20230320T070000
DTSTAMP:20260423T085448
CREATED:20221202T184047Z
LAST-MODIFIED:20221202T184047Z
UID:2642-1679295600-1679295600@newmexico.onlinehelp.cognia.org
SUMMARY:Online Portal Ready for Test Scheduling
DESCRIPTION:(one week prior to the start of the summative testing window) \n
URL:https://newmexico.onlinehelp.cognia.org/event/online-portal-ready-for-test-scheduling-5/
CATEGORIES:NM-ASR,NM-MSSA
END:VEVENT
END:VCALENDAR