BEGIN:VCALENDAR
VERSION:2.0
PRODID:-//New Mexico Help &amp; Support - ECPv4.9.1.1//NONSGML v1.0//EN
CALSCALE:GREGORIAN
METHOD:PUBLISH
X-WR-CALNAME:New Mexico Help &amp; Support
X-ORIGINAL-URL:https://newmexico.onlinehelp.cognia.org
X-WR-CALDESC:Events for New Mexico Help &amp; Support
BEGIN:VEVENT
DTSTART;TZID=America/Denver:20181116T070000
DTEND;TZID=America/Denver:20181116T190000
DTSTAMP:20260421T121451
CREATED:20181005T191418Z
LAST-MODIFIED:20181008T142504Z
UID:866-1542351600-1542394800@newmexico.onlinehelp.cognia.org
SUMMARY:Online Portal closes for Online Testing Administration
DESCRIPTION:
URL:https://newmexico.onlinehelp.cognia.org/event/portal-closes-for-online-testing-administration/
CATEGORIES:Fall SBA Science
END:VEVENT
END:VCALENDAR