BEGIN:VCALENDAR
VERSION:2.0
PRODID:-//New Mexico Help &amp; Support - ECPv4.9.1.1//NONSGML v1.0//EN
CALSCALE:GREGORIAN
METHOD:PUBLISH
X-WR-CALNAME:New Mexico Help &amp; Support
X-ORIGINAL-URL:https://newmexico.onlinehelp.cognia.org
X-WR-CALDESC:Events for New Mexico Help &amp; Support
BEGIN:VEVENT
DTSTART;TZID=America/Denver:20220509T080000
DTEND;TZID=America/Denver:20220511T170000
DTSTAMP:20260421T102958
CREATED:20211206T210652Z
LAST-MODIFIED:20211206T210652Z
UID:2186-1652083200-1652288400@newmexico.onlinehelp.cognia.org
SUMMARY:Post-Online Testing Administrative Work Window
DESCRIPTION:(i.e.\, inventory roster to make sure every student who tested is accounted for; if anyone had absences\, or other situations\, use the correct Test Completion code) \n
URL:https://newmexico.onlinehelp.cognia.org/event/post-online-testing-administrative-work-window-2/
END:VEVENT
END:VCALENDAR