BEGIN:VCALENDAR
VERSION:2.0
PRODID:-//New Mexico Help &amp; Support - ECPv4.9.1.1//NONSGML v1.0//EN
CALSCALE:GREGORIAN
METHOD:PUBLISH
X-WR-CALNAME:New Mexico Help &amp; Support
X-ORIGINAL-URL:https://newmexico.onlinehelp.cognia.org
X-WR-CALDESC:Events for New Mexico Help &amp; Support
BEGIN:VEVENT
DTSTART;VALUE=DATE:20240805
DTEND;VALUE=DATE:20240806
DTSTAMP:20260423T085214
CREATED:20240716T185623Z
LAST-MODIFIED:20240716T185623Z
UID:3031-1722816000-1722902399@newmexico.onlinehelp.cognia.org
SUMMARY:Pre-ID Bulk Upload Opens
DESCRIPTION:
URL:https://newmexico.onlinehelp.cognia.org/event/pre-id-bulk-upload-opens/
CATEGORIES:NM-iMSSA
END:VEVENT
END:VCALENDAR