BEGIN:VCALENDAR
VERSION:2.0
PRODID:-//New Mexico Help &amp; Support - ECPv4.9.1.1//NONSGML v1.0//EN
CALSCALE:GREGORIAN
METHOD:PUBLISH
X-WR-CALNAME:New Mexico Help &amp; Support
X-ORIGINAL-URL:https://newmexico.onlinehelp.cognia.org
X-WR-CALDESC:Events for New Mexico Help &amp; Support
BEGIN:VEVENT
DTSTART;VALUE=DATE:20241001
DTEND;VALUE=DATE:20260101
DTSTAMP:20260422T153208
CREATED:20221202T161617Z
LAST-MODIFIED:20241030T191057Z
UID:2634-1727740800-1767225599@newmexico.onlinehelp.cognia.org
SUMMARY:NM-MSSA Practice Tests available in Browser and PBT downloadable files in the Help & Support Page
DESCRIPTION:24/7\, all year round \n
URL:https://newmexico.onlinehelp.cognia.org/event/nm-asr-and-nm-mssa-practice-tests-available-in-browser-and-pbt-downloadable-files-in-the-help-support-page-2/
CATEGORIES:NM-ASR,NM-MSSA
END:VEVENT
BEGIN:VEVENT
DTSTART;VALUE=DATE:20241125
DTEND;VALUE=DATE:20250111
DTSTAMP:20260422T153208
CREATED:20240716T190527Z
LAST-MODIFIED:20240809T135823Z
UID:3038-1732492800-1736553599@newmexico.onlinehelp.cognia.org
SUMMARY:Online Portal available for Pre-ID bulk upload\, manual student enrollment through the duration of the MOY iMSSA admin window
DESCRIPTION:
URL:https://newmexico.onlinehelp.cognia.org/event/pre-id-bulk-upload-opens-2/
CATEGORIES:NM-iMSSA
END:VEVENT
BEGIN:VEVENT
DTSTART;TZID=America/Denver:20241202T070000
DTEND;TZID=America/Denver:20250110T170000
DTSTAMP:20260422T153208
CREATED:20241030T183948Z
LAST-MODIFIED:20241031T184856Z
UID:3142-1733122800-1736528400@newmexico.onlinehelp.cognia.org
SUMMARY:Initial Ordering Window
DESCRIPTION:(for NM-MSSA paper materials only)  \n
URL:https://newmexico.onlinehelp.cognia.org/event/initial-ordering-window-6/
CATEGORIES:NM-MSSA
END:VEVENT
BEGIN:VEVENT
DTSTART;TZID=America/Denver:20241202T070000
DTEND;TZID=America/Denver:20250110T170000
DTSTAMP:20260422T153208
CREATED:20241031T183517Z
LAST-MODIFIED:20241031T183517Z
UID:3168-1733122800-1736528400@newmexico.onlinehelp.cognia.org
SUMMARY:Initial Ordering Window
DESCRIPTION:
URL:https://newmexico.onlinehelp.cognia.org/event/initial-ordering-window-7/
CATEGORIES:Spanish Reading
END:VEVENT
END:VCALENDAR