BEGIN:VCALENDAR
VERSION:2.0
PRODID:-//New Mexico Help &amp; Support - ECPv4.9.1.1//NONSGML v1.0//EN
CALSCALE:GREGORIAN
METHOD:PUBLISH
X-WR-CALNAME:New Mexico Help &amp; Support
X-ORIGINAL-URL:https://newmexico.onlinehelp.cognia.org
X-WR-CALDESC:Events for New Mexico Help &amp; Support
BEGIN:VEVENT
DTSTART;VALUE=DATE:20241001
DTEND;VALUE=DATE:20260101
DTSTAMP:20260420T191400
CREATED:20221202T161617Z
LAST-MODIFIED:20241030T191057Z
UID:2634-1727740800-1767225599@newmexico.onlinehelp.cognia.org
SUMMARY:NM-MSSA Practice Tests available in Browser and PBT downloadable files in the Help & Support Page
DESCRIPTION:24/7\, all year round \n
URL:https://newmexico.onlinehelp.cognia.org/event/nm-asr-and-nm-mssa-practice-tests-available-in-browser-and-pbt-downloadable-files-in-the-help-support-page-2/
CATEGORIES:NM-ASR,NM-MSSA
END:VEVENT
BEGIN:VEVENT
DTSTART;VALUE=DATE:20250331
DTEND;VALUE=DATE:20250524
DTSTAMP:20260420T191400
CREATED:20240912T185458Z
LAST-MODIFIED:20240912T185458Z
UID:3089-1743379200-1748044799@newmexico.onlinehelp.cognia.org
SUMMARY:Online Portal available for manual student enrollment\, user inventory\, etc.
DESCRIPTION:
URL:https://newmexico.onlinehelp.cognia.org/event/online-portal-available-for-manual-student-enrollment-user-inventory-etc/
CATEGORIES:NM-iMSSA
END:VEVENT
BEGIN:VEVENT
DTSTART;VALUE=DATE:20250505
DTEND;VALUE=DATE:20250524
DTSTAMP:20260420T191400
CREATED:20240912T185310Z
LAST-MODIFIED:20240912T185310Z
UID:3087-1746403200-1748044799@newmexico.onlinehelp.cognia.org
SUMMARY:Online Portal available for Pre-ID Bulk Upload
DESCRIPTION:Window 2 \n
URL:https://newmexico.onlinehelp.cognia.org/event/online-portal-available-for-pre-id-bulk-upload-2/
CATEGORIES:NM-iMSSA
END:VEVENT
BEGIN:VEVENT
DTSTART;VALUE=DATE:20250505
DTEND;VALUE=DATE:20250508
DTSTAMP:20260420T191400
CREATED:20241030T192645Z
LAST-MODIFIED:20241030T192645Z
UID:3163-1746403200-1746662399@newmexico.onlinehelp.cognia.org
SUMMARY:Post-Online Testing Administrative Work Window
DESCRIPTION:(i.e.\, inventory roster to make sure every student who tested is accounted for; if anyone had absences\, or other situations\, assign the correct Test Completion Code for both online and paper testers)  \n
URL:https://newmexico.onlinehelp.cognia.org/event/post-online-testing-administrative-work-window-5/
CATEGORIES:NM-MSSA
END:VEVENT
BEGIN:VEVENT
DTSTART;TZID=America/Denver:20250507T170000
DTEND;TZID=America/Denver:20250507T170000
DTSTAMP:20260420T191400
CREATED:20241030T193118Z
LAST-MODIFIED:20241030T193118Z
UID:3165-1746637200-1746637200@newmexico.onlinehelp.cognia.org
SUMMARY:Online portal closes for NM-MSSA post online admin related tasks
DESCRIPTION:
URL:https://newmexico.onlinehelp.cognia.org/event/online-portal-closes-for-nm-mssa-post-online-admin-related-tasks-2/
CATEGORIES:NM-MSSA
END:VEVENT
END:VCALENDAR