BEGIN:VCALENDAR
VERSION:2.0
PRODID:-//New Mexico Help &amp; Support - ECPv4.9.1.1//NONSGML v1.0//EN
CALSCALE:GREGORIAN
METHOD:PUBLISH
X-WR-CALNAME:New Mexico Help &amp; Support
X-ORIGINAL-URL:https://newmexico.onlinehelp.cognia.org
X-WR-CALDESC:Events for New Mexico Help &amp; Support
BEGIN:VEVENT
DTSTART;VALUE=DATE:20241001
DTEND;VALUE=DATE:20260101
DTSTAMP:20260420T155937
CREATED:20221202T161617Z
LAST-MODIFIED:20241030T191057Z
UID:2634-1727740800-1767225599@newmexico.onlinehelp.cognia.org
SUMMARY:NM-MSSA Practice Tests available in Browser and PBT downloadable files in the Help & Support Page
DESCRIPTION:24/7\, all year round \n
URL:https://newmexico.onlinehelp.cognia.org/event/nm-asr-and-nm-mssa-practice-tests-available-in-browser-and-pbt-downloadable-files-in-the-help-support-page-2/
CATEGORIES:NM-ASR,NM-MSSA
END:VEVENT
BEGIN:VEVENT
DTSTART;VALUE=DATE:20250527
DTEND;VALUE=DATE:20250528
DTSTAMP:20260420T155937
CREATED:20240719T194903Z
LAST-MODIFIED:20240719T194903Z
UID:3053-1748304000-1748390399@newmexico.onlinehelp.cognia.org
SUMMARY:EOY iMSSA Final reports available in Data Interaction
DESCRIPTION:
URL:https://newmexico.onlinehelp.cognia.org/event/eoy-imssa-final-reports-available-in-data-interaction-2/
CATEGORIES:NM-iMSSA
END:VEVENT
BEGIN:VEVENT
DTSTART;VALUE=DATE:20250527
DTEND;VALUE=DATE:20250528
DTSTAMP:20260420T155937
CREATED:20240719T195419Z
LAST-MODIFIED:20240719T195419Z
UID:3054-1748304000-1748390399@newmexico.onlinehelp.cognia.org
SUMMARY:EOY iMSSA reports available in the Family Portal
DESCRIPTION:
URL:https://newmexico.onlinehelp.cognia.org/event/eoy-imssa-reports-available-in-the-family-portal-2/
CATEGORIES:NM-iMSSA
END:VEVENT
END:VCALENDAR