BEGIN:VCALENDAR
VERSION:2.0
PRODID:-//New Mexico Help &amp; Support - ECPv4.9.1.1//NONSGML v1.0//EN
CALSCALE:GREGORIAN
METHOD:PUBLISH
X-WR-CALNAME:New Mexico Help &amp; Support
X-ORIGINAL-URL:https://newmexico.onlinehelp.cognia.org
X-WR-CALDESC:Events for New Mexico Help &amp; Support
BEGIN:VEVENT
DTSTART;VALUE=DATE:20220404
DTEND;VALUE=DATE:20220405
DTSTAMP:20260423T100543
CREATED:20220217T210119Z
LAST-MODIFIED:20220217T210119Z
UID:2215-1649030400-1649116799@newmexico.onlinehelp.cognia.org
SUMMARY:EOY iMSSA testing administration window opens
DESCRIPTION:
URL:https://newmexico.onlinehelp.cognia.org/event/eoy-imssa-testing-administration-window-opens/
CATEGORIES:NM-iMSSA
END:VEVENT
END:VCALENDAR