BEGIN:VCALENDAR
VERSION:2.0
PRODID:-//New Mexico Help &amp; Support - ECPv4.9.1.1//NONSGML v1.0//EN
CALSCALE:GREGORIAN
METHOD:PUBLISH
X-WR-CALNAME:New Mexico Help &amp; Support
X-ORIGINAL-URL:https://newmexico.onlinehelp.cognia.org
X-WR-CALDESC:Events for New Mexico Help &amp; Support
BEGIN:VEVENT
DTSTART;VALUE=DATE:20240524
DTEND;VALUE=DATE:20240525
DTSTAMP:20260423T152259
CREATED:20230808T153258Z
LAST-MODIFIED:20230808T165719Z
UID:2768-1716508800-1716595199@newmexico.onlinehelp.cognia.org
SUMMARY:iMSSA End of Year (EOY) Testing window closes
DESCRIPTION:
URL:https://newmexico.onlinehelp.cognia.org/event/imssa-end-of-year-eoy-testing-window-closes/
CATEGORIES:NM-iMSSA
END:VEVENT
BEGIN:VEVENT
DTSTART;VALUE=DATE:20240524
DTEND;VALUE=DATE:20240525
DTSTAMP:20260423T152259
CREATED:20231206T154405Z
LAST-MODIFIED:20231206T195639Z
UID:2857-1716508800-1716595199@newmexico.onlinehelp.cognia.org
SUMMARY:Online portal remains open for EOY iMSSA interim testing
DESCRIPTION:
URL:https://newmexico.onlinehelp.cognia.org/event/online-portal-remains-open-for-eoy-imssa-interim-testing-2/
CATEGORIES:NM-iMSSA
END:VEVENT
BEGIN:VEVENT
DTSTART;TZID=America/Denver:20240524T210000
DTEND;TZID=America/Denver:20240524T210000
DTSTAMP:20260423T152259
CREATED:20231206T194151Z
LAST-MODIFIED:20231206T195558Z
UID:2871-1716584400-1716584400@newmexico.onlinehelp.cognia.org
SUMMARY:Online Portal Closes for EOY iMSSA Testing
DESCRIPTION:
URL:https://newmexico.onlinehelp.cognia.org/event/online-portal-closes-for-eoy-imssa-testing/
CATEGORIES:NM-iMSSA
END:VEVENT
END:VCALENDAR